BEGIN:VCALENDAR
VERSION:2.0
PRODID:-//wp-events-plugin.com//7.2.3.1//EN
TZID:Europe/Paris
X-WR-TIMEZONE:Europe/Paris
BEGIN:VEVENT
UID:133@theatronsensemble.com
DTSTART;TZID=Europe/Paris:20231110T200000
DTEND;TZID=Europe/Paris:20231110T220000
DTSTAMP:20231109T144833Z
URL:https://theatronsensemble.com/events/concert-intimiste-malo-lafleur-ca
 fe-grand-biarritz-64/
SUMMARY:Concert Intimiste - Malo Lafleur -  Café Grand - Biarritz (64)
DESCRIPTION:Malo Lafleur est un auteur/interprète originaire du pays-basqu
 e.\nDans son art hybride : le slam\, le rap et le conte se rencontrent pou
 r nous guider dans la danse de nos propres réflexions.\nUn esprit qui emb
 rasse ses propres contradictions et les mélange pour les rendre cohérent
 es à découvrir dans le cadre de concerts intimistes. https://theatronsen
 semble.com/events/concert-intimiste-malo-lafleur-cafe-grand-biarritz-64/
ATTACH;FMTTYPE=image/jpeg:https://i0.wp.com/theatronsensemble.com/wp-conte
 nt/uploads/2023/11/post-tout.jpg?fit=1076%2C1080&ssl=1
CATEGORIES:Concert,Théâtre
LOCATION:Café Grand Biarritz\, 12 Rue des Mésanges\, Biarritz\, 64200\, F
 rance
X-APPLE-STRUCTURED-LOCATION;VALUE=URI;X-ADDRESS=12 Rue des Mésanges\, Biar
 ritz\, 64200\, France;X-APPLE-RADIUS=100;X-TITLE=Café Grand Biarritz:geo:
 0,0
END:VEVENT
BEGIN:VTIMEZONE
TZID:Europe/Paris
X-LIC-LOCATION:Europe/Paris
BEGIN:STANDARD
DTSTART:20231029T020000
TZOFFSETFROM:+0200
TZOFFSETTO:+0100
TZNAME:CET
END:STANDARD
END:VTIMEZONE
END:VCALENDAR